BEGIN:VCALENDAR
VERSION:2.0
PRODID:-//AIA Birmingham - ECPv6.15.20//NONSGML v1.0//EN
CALSCALE:GREGORIAN
METHOD:PUBLISH
X-ORIGINAL-URL:https://aiabham.org
X-WR-CALDESC:Events for AIA Birmingham
REFRESH-INTERVAL;VALUE=DURATION:PT1H
X-Robots-Tag:noindex
X-PUBLISHED-TTL:PT1H
BEGIN:VTIMEZONE
TZID:America/Chicago
BEGIN:DAYLIGHT
TZOFFSETFROM:-0600
TZOFFSETTO:-0500
TZNAME:CDT
DTSTART:20220313T080000
END:DAYLIGHT
BEGIN:STANDARD
TZOFFSETFROM:-0500
TZOFFSETTO:-0600
TZNAME:CST
DTSTART:20221106T070000
END:STANDARD
BEGIN:DAYLIGHT
TZOFFSETFROM:-0600
TZOFFSETTO:-0500
TZNAME:CDT
DTSTART:20230312T080000
END:DAYLIGHT
BEGIN:STANDARD
TZOFFSETFROM:-0500
TZOFFSETTO:-0600
TZNAME:CST
DTSTART:20231105T070000
END:STANDARD
BEGIN:DAYLIGHT
TZOFFSETFROM:-0600
TZOFFSETTO:-0500
TZNAME:CDT
DTSTART:20240310T080000
END:DAYLIGHT
BEGIN:STANDARD
TZOFFSETFROM:-0500
TZOFFSETTO:-0600
TZNAME:CST
DTSTART:20241103T070000
END:STANDARD
END:VTIMEZONE
BEGIN:VEVENT
DTSTART;TZID=America/Chicago:20230214T113000
DTEND;TZID=America/Chicago:20230214T130000
DTSTAMP:20260420T133455
CREATED:20230113T165837Z
LAST-MODIFIED:20230203T155449Z
UID:10000335-1676374200-1676379600@aiabham.org
SUMMARY:Urban Impact: Civil Rights District Update
DESCRIPTION:Join us Tuesday\, February 14th!\n$15 Members | $30 Non-Members\n1 HSW (Pending) \nUrban Impact’s Ivan Holloway\, Executive Director & Roy Stoves\, District Director will give an update on strategic initiatives & developments in the Birmingham Civil Rights District. \nRegister online in our shop! 
URL:https://aiabham.org/event/urban-impact-civil-rights-district-update/
LOCATION:Alabama Center for Architecture\, 109 Richard Arrington Blvd S\, Birmingham\, 35233
ATTACH;FMTTYPE=image/png:https://aiabham.org/wp-content/uploads/2023/01/Urban-Impact-DRAFT-Instagram-Post-Square.png
GEO:33.5121595;-86.8021034
X-APPLE-STRUCTURED-LOCATION;VALUE=URI;X-ADDRESS=Alabama Center for Architecture 109 Richard Arrington Blvd S Birmingham 35233;X-APPLE-RADIUS=500;X-TITLE=109 Richard Arrington Blvd S:geo:-86.8021034,33.5121595
END:VEVENT
END:VCALENDAR