BEGIN:VCALENDAR
VERSION:2.0
PRODID:-//AIA Birmingham - ECPv6.15.20//NONSGML v1.0//EN
CALSCALE:GREGORIAN
METHOD:PUBLISH
X-ORIGINAL-URL:https://aiabham.org
X-WR-CALDESC:Events for AIA Birmingham
REFRESH-INTERVAL;VALUE=DURATION:PT1H
X-Robots-Tag:noindex
X-PUBLISHED-TTL:PT1H
BEGIN:VTIMEZONE
TZID:America/Chicago
BEGIN:DAYLIGHT
TZOFFSETFROM:-0600
TZOFFSETTO:-0500
TZNAME:CDT
DTSTART:20210314T080000
END:DAYLIGHT
BEGIN:STANDARD
TZOFFSETFROM:-0500
TZOFFSETTO:-0600
TZNAME:CST
DTSTART:20211107T070000
END:STANDARD
BEGIN:DAYLIGHT
TZOFFSETFROM:-0600
TZOFFSETTO:-0500
TZNAME:CDT
DTSTART:20220313T080000
END:DAYLIGHT
BEGIN:STANDARD
TZOFFSETFROM:-0500
TZOFFSETTO:-0600
TZNAME:CST
DTSTART:20221106T070000
END:STANDARD
BEGIN:DAYLIGHT
TZOFFSETFROM:-0600
TZOFFSETTO:-0500
TZNAME:CDT
DTSTART:20230312T080000
END:DAYLIGHT
BEGIN:STANDARD
TZOFFSETFROM:-0500
TZOFFSETTO:-0600
TZNAME:CST
DTSTART:20231105T070000
END:STANDARD
END:VTIMEZONE
BEGIN:VEVENT
DTSTART;TZID=America/Chicago:20221201T180000
DTEND;TZID=America/Chicago:20221201T200000
DTSTAMP:20260420T100322
CREATED:20221027T195850Z
LAST-MODIFIED:20221027T195850Z
UID:10000331-1669917600-1669924800@aiabham.org
SUMMARY:Holiday Party
DESCRIPTION:Sponsored by:\n \nJoin us Thursday\, December 1st from 6:00 – 8:00 PM for our annual Holiday Party!\nMembers & Sponsors ONLY.  \nPlease RSVP to anna@karmamanagementinc.com by Nov. 29th! \nWe will be accepting donations for Faith Chapel Care Center. Please click here to view the full donation list.
URL:https://aiabham.org/event/holiday-party/
LOCATION:ACFA\, 109 Richard Arrington Junior Blvd S\, Birmingham\, AL\, 35233\, United States
ATTACH;FMTTYPE=image/png:https://aiabham.org/wp-content/uploads/2022/10/Holiday-Party-1080x1080-1.png
END:VEVENT
END:VCALENDAR