BEGIN:VCALENDAR
VERSION:2.0
PRODID:-//AIA Birmingham - ECPv6.15.20//NONSGML v1.0//EN
CALSCALE:GREGORIAN
METHOD:PUBLISH
X-ORIGINAL-URL:https://aiabham.org
X-WR-CALDESC:Events for AIA Birmingham
REFRESH-INTERVAL;VALUE=DURATION:PT1H
X-Robots-Tag:noindex
X-PUBLISHED-TTL:PT1H
BEGIN:VTIMEZONE
TZID:America/Chicago
BEGIN:DAYLIGHT
TZOFFSETFROM:-0600
TZOFFSETTO:-0500
TZNAME:CDT
DTSTART:20160313T080000
END:DAYLIGHT
BEGIN:STANDARD
TZOFFSETFROM:-0500
TZOFFSETTO:-0600
TZNAME:CST
DTSTART:20161106T070000
END:STANDARD
BEGIN:DAYLIGHT
TZOFFSETFROM:-0600
TZOFFSETTO:-0500
TZNAME:CDT
DTSTART:20170312T080000
END:DAYLIGHT
BEGIN:STANDARD
TZOFFSETFROM:-0500
TZOFFSETTO:-0600
TZNAME:CST
DTSTART:20171105T070000
END:STANDARD
BEGIN:DAYLIGHT
TZOFFSETFROM:-0600
TZOFFSETTO:-0500
TZNAME:CDT
DTSTART:20180311T080000
END:DAYLIGHT
BEGIN:STANDARD
TZOFFSETFROM:-0500
TZOFFSETTO:-0600
TZNAME:CST
DTSTART:20181104T070000
END:STANDARD
BEGIN:DAYLIGHT
TZOFFSETFROM:-0600
TZOFFSETTO:-0500
TZNAME:CDT
DTSTART:20190310T080000
END:DAYLIGHT
BEGIN:STANDARD
TZOFFSETFROM:-0500
TZOFFSETTO:-0600
TZNAME:CST
DTSTART:20191103T070000
END:STANDARD
END:VTIMEZONE
BEGIN:VEVENT
DTSTART;TZID=America/Chicago:20180524T150000
DTEND;TZID=America/Chicago:20180524T160000
DTSTAMP:20260421T043958
CREATED:20180518T180051Z
LAST-MODIFIED:20180518T180051Z
UID:10000238-1527174000-1527177600@aiabham.org
SUMMARY:Site Visit to new UAB School of Business
DESCRIPTION:Thursday\, May 24th\, 2018\n3:00 – 4:00 p.m. \n710 13th Street South\nBirmingham AL 35233 \nParking: Entrance is off 13th Street\, park behind the job-site trailer. \nRequired PPE: Vests\, hard hats\, glasses and closed toed shoes. \nRSVP to sarah@aiabham.org if you can attend! \nArchitect: Williams Blackstock Architects\nContractor: Brasfield & Gorrie
URL:https://aiabham.org/event/site-visit-to-new-uab-school-of-business/
LOCATION:UAB Collat School of Business\, 710 13th Street South\, Birmingham\, AL\, 35233\, United States
ATTACH;FMTTYPE=image/jpeg:https://aiabham.org/wp-content/uploads/2018/05/160229-View-01-scaled.jpg
GEO:33.501055;-86.8094376
X-APPLE-STRUCTURED-LOCATION;VALUE=URI;X-ADDRESS=UAB Collat School of Business 710 13th Street South Birmingham AL 35233 United States;X-APPLE-RADIUS=500;X-TITLE=710 13th Street South:geo:-86.8094376,33.501055
END:VEVENT
BEGIN:VEVENT
DTSTART;TZID=America/Chicago:20171109T163000
DTEND;TZID=America/Chicago:20171109T173000
DTSTAMP:20260421T043958
CREATED:20171030T172417Z
LAST-MODIFIED:20171101T144922Z
UID:10000469-1510245000-1510248600@aiabham.org
SUMMARY:Site Visit: UAB School of Business (1 HSW pending)
DESCRIPTION:Site Visit to the new UAB School of Business \nThursday\, November 9th\n4:30-5:30 p.m. \n710 13th Street South\nBirmingham AL 35233 \nParking: Entrance is off 13th Street\, park behind the jobsite trailer. \nRequired PPE: Vests\, hard hats\, glasses and closed toed shoes. \nRSVP to kathryn@aiabham.org if you can attend! \nArchitect: Williams Blackstock Architects\nContractor: Brasfield & Gorrie
URL:https://aiabham.org/event/site-visit-uab-school-business-1-hsw-pending/
LOCATION:UAB Collat School of Business\, 710 13th Street South\, Birmingham\, AL\, 35233\, United States
CATEGORIES:Emerging Professionals
ATTACH;FMTTYPE=image/jpeg:https://aiabham.org/wp-content/uploads/2017/10/160229-View-01-scaled.jpg
ORGANIZER;CN="Kathryn":MAILTO:kathryn@aiabham.org
GEO:33.501055;-86.8094376
X-APPLE-STRUCTURED-LOCATION;VALUE=URI;X-ADDRESS=UAB Collat School of Business 710 13th Street South Birmingham AL 35233 United States;X-APPLE-RADIUS=500;X-TITLE=710 13th Street South:geo:-86.8094376,33.501055
END:VEVENT
END:VCALENDAR