BEGIN:VCALENDAR
VERSION:2.0
PRODID:-//AIA Birmingham - ECPv6.15.20//NONSGML v1.0//EN
CALSCALE:GREGORIAN
METHOD:PUBLISH
X-ORIGINAL-URL:https://aiabham.org
X-WR-CALDESC:Events for AIA Birmingham
REFRESH-INTERVAL;VALUE=DURATION:PT1H
X-Robots-Tag:noindex
X-PUBLISHED-TTL:PT1H
BEGIN:VTIMEZONE
TZID:America/Chicago
BEGIN:DAYLIGHT
TZOFFSETFROM:-0600
TZOFFSETTO:-0500
TZNAME:CDT
DTSTART:20110313T080000
END:DAYLIGHT
BEGIN:STANDARD
TZOFFSETFROM:-0500
TZOFFSETTO:-0600
TZNAME:CST
DTSTART:20111106T070000
END:STANDARD
BEGIN:DAYLIGHT
TZOFFSETFROM:-0600
TZOFFSETTO:-0500
TZNAME:CDT
DTSTART:20120311T080000
END:DAYLIGHT
BEGIN:STANDARD
TZOFFSETFROM:-0500
TZOFFSETTO:-0600
TZNAME:CST
DTSTART:20121104T070000
END:STANDARD
BEGIN:DAYLIGHT
TZOFFSETFROM:-0600
TZOFFSETTO:-0500
TZNAME:CDT
DTSTART:20130310T080000
END:DAYLIGHT
BEGIN:STANDARD
TZOFFSETFROM:-0500
TZOFFSETTO:-0600
TZNAME:CST
DTSTART:20131103T070000
END:STANDARD
END:VTIMEZONE
BEGIN:VEVENT
DTSTART;VALUE=DATE:20120330
DTEND;VALUE=DATE:20120331
DTSTAMP:20260420T103759
CREATED:20120225T044808Z
LAST-MODIFIED:20120225T044808Z
UID:10000014-1333065600-1333151999@aiabham.org
SUMMARY:Habitat for Humanity
DESCRIPTION:Block out your Friday to help your neighbors (and celebrate Laurel’s birthday!!!) \n Join AIA to help rebuild Pratt City. Interns get IDP credit and everyone gets that warm fuzzy feeling inside!
URL:https://aiabham.org/event/habitat-for-humanity-2/
LOCATION:The Taylor House\, 1044 Hibernian St\, Pratt City\, AL\, United States
END:VEVENT
BEGIN:VEVENT
DTSTART;VALUE=DATE:20120317
DTEND;VALUE=DATE:20120318
DTSTAMP:20260420T103759
CREATED:20120225T044437Z
LAST-MODIFIED:20120229T221214Z
UID:10000012-1331942400-1332028799@aiabham.org
SUMMARY:Habitat for Humanity
DESCRIPTION:Come help us rebuild Pratt City\, a historic neighborhood that was hit hard by the storms of April 27th.  Interns get IDP credit and everyone gets that warm fuzzy feeling inside!!!
URL:https://aiabham.org/event/habitat-for-humanity/
LOCATION:The Taylor House\, 1044 Hibernian St\, Pratt City\, AL\, United States
END:VEVENT
END:VCALENDAR