BEGIN:VCALENDAR
VERSION:2.0
PRODID:-//AIA Birmingham - ECPv6.15.20//NONSGML v1.0//EN
CALSCALE:GREGORIAN
METHOD:PUBLISH
X-WR-CALNAME:AIA Birmingham
X-ORIGINAL-URL:https://aiabham.org
X-WR-CALDESC:Events for AIA Birmingham
REFRESH-INTERVAL;VALUE=DURATION:PT1H
X-Robots-Tag:noindex
X-PUBLISHED-TTL:PT1H
BEGIN:VTIMEZONE
TZID:America/Chicago
BEGIN:DAYLIGHT
TZOFFSETFROM:-0600
TZOFFSETTO:-0500
TZNAME:CDT
DTSTART:20140309T080000
END:DAYLIGHT
BEGIN:STANDARD
TZOFFSETFROM:-0500
TZOFFSETTO:-0600
TZNAME:CST
DTSTART:20141102T070000
END:STANDARD
BEGIN:DAYLIGHT
TZOFFSETFROM:-0600
TZOFFSETTO:-0500
TZNAME:CDT
DTSTART:20150308T080000
END:DAYLIGHT
BEGIN:STANDARD
TZOFFSETFROM:-0500
TZOFFSETTO:-0600
TZNAME:CST
DTSTART:20151101T070000
END:STANDARD
BEGIN:DAYLIGHT
TZOFFSETFROM:-0600
TZOFFSETTO:-0500
TZNAME:CDT
DTSTART:20160313T080000
END:DAYLIGHT
BEGIN:STANDARD
TZOFFSETFROM:-0500
TZOFFSETTO:-0600
TZNAME:CST
DTSTART:20161106T070000
END:STANDARD
BEGIN:DAYLIGHT
TZOFFSETFROM:-0600
TZOFFSETTO:-0500
TZNAME:CDT
DTSTART:20170312T080000
END:DAYLIGHT
BEGIN:STANDARD
TZOFFSETFROM:-0500
TZOFFSETTO:-0600
TZNAME:CST
DTSTART:20171105T070000
END:STANDARD
BEGIN:DAYLIGHT
TZOFFSETFROM:-0600
TZOFFSETTO:-0500
TZNAME:CDT
DTSTART:20180311T080000
END:DAYLIGHT
BEGIN:STANDARD
TZOFFSETFROM:-0500
TZOFFSETTO:-0600
TZNAME:CST
DTSTART:20181104T070000
END:STANDARD
BEGIN:DAYLIGHT
TZOFFSETFROM:-0600
TZOFFSETTO:-0500
TZNAME:CDT
DTSTART:20190310T080000
END:DAYLIGHT
BEGIN:STANDARD
TZOFFSETFROM:-0500
TZOFFSETTO:-0600
TZNAME:CST
DTSTART:20191103T070000
END:STANDARD
END:VTIMEZONE
BEGIN:VEVENT
DTSTART;TZID=America/Chicago:20180614T180000
DTEND;TZID=America/Chicago:20180614T203000
DTSTAMP:20260421T083933
CREATED:20180510T204815Z
LAST-MODIFIED:20180604T135822Z
UID:10000236-1528999200-1529008200@aiabham.org
SUMMARY:2018 AIA Birmingham Design Awards Gala
DESCRIPTION:$50.00\nRSVP to sarah@aiabham.org\nPurchase tickets by June 8th\nat www.squareup.com/store/aia-birmingham \n______ \nInterested in sponsoring?\nTake a look at the sponsorship form here.\nPlease email sarah@aiabham.org with any questions.\nBoards due by May 30th! ______\nAIA Birmingham 2018 Jury\nChair Steven Shinn – https://www.gensler.com/\nLance Hosey\, FAIA\, LEED – http://www.lancehosey.com/\nKevin de Freitas – https://www.defreitasarchitects.com/\nJennifer Luce – http://www.lucestudio.com\nDave Gilmore – https://www.lpainc.com/\nMaxine Ward – http://www.studioearchitects.com/ 
URL:https://aiabham.org/event/2018-aia-birmingham-design-awards-gala/
LOCATION:Saturn\, 200 41st St S\, Birmingham\, AL\, 35222\, United States
ATTACH;FMTTYPE=image/jpeg:https://aiabham.org/wp-content/uploads/2018/05/AIA-Design-Awards-2018.jpg
GEO:33.5242749;-86.7746153
X-APPLE-STRUCTURED-LOCATION;VALUE=URI;X-ADDRESS=Saturn 200 41st St S Birmingham AL 35222 United States;X-APPLE-RADIUS=500;X-TITLE=200 41st St S:geo:-86.7746153,33.5242749
END:VEVENT
BEGIN:VEVENT
DTSTART;TZID=America/Chicago:20160119T113000
DTEND;TZID=America/Chicago:20160119T130000
DTSTAMP:20260421T083933
CREATED:20151209T223310Z
LAST-MODIFIED:20160120T145402Z
UID:10000407-1453203000-1453208400@aiabham.org
SUMMARY:Music & Architecture- January Chapter Meeting - 1 HSW
DESCRIPTION:“If architecture is frozen music\, is music liquid architecture?” – Frank Gehry \nJoin us as we continue celebrating the connection between architecture and music at a discussion panel featuring some of Birmingham’s best known musicians and venue owners. Architects want to hear what musicians\, artist hospitality reps\, venue owners and the users want in a venue. What do music venue users like or dislike in a venue? What do they wish architects would consider in a music venue?  Topics will include client concept of various music venues\, acoustics\, safety & security\, musician and performer experience and form/function. \nPanelists: \nNeil Davis\, AIA\, President of Davis Architecture \nA 1976 Auburn University graduate\, Davis serves as the President of Davis Architects. One of his early large projects was the transformation of a Samford University dormitory into the Beeson School of Divinity. Mr. Davis has since worked in civic\, institutional\, religious and educational sectors. He has designed music venues and concert halls\, such as Samford University’s Jane Hollock Brock Recital Hall\, Hewitt Trussville High School auditorium\, Corner High School auditorium\, and more. His contributions to architectural design through his nearly 40-year career reflect a lifelong commitment to design excellence. \nBrian Teasley\, Owner of Saturn and Satellite \nTeasley is a musician\, writer\, record dealer\, concert promoter and currently the owner of Saturn and The Satellite in Avondale. He studied communications at Auburn University\, has owned recording studios across the southeast and has been a member of several bands\, including Man or Astro-Man?\, The Boster and Servotron\, Japancakes\, St. Vincent\, Tyro\, Watts\, The Mono Men\, Har Mar Superstar\, the Vue and The Polyphonic Spree. He performed music for “Space Ghost Coast to Coast” and other television shows\, and toured with the “Mr. Show Tour” and “The Comedians of Comedy”. In 2006 he partnered with Brad and Merrilee Challiss to open Bottletree on 3rd Avenue South. With Teasley and Leah Hutchinson’s Secret History Productions booking acts\, the cafe and venue quickly established itself as a keystone of Birmingham’s music scene and helped put the city on the national touring map. Teasley parted ways with Bottletree in 2014 and opened the Saturn venue and The Satellite coffee shop in nearby Avondale.\n\nSean Price\, Guitarist for ERRA \nSean Price\, a Birmingham native\, is a a professional touring musician with rock band ERRA. LLC\, signed to Sumerian Records and managed by Royal Division. He is endorsed by companies such as Ibanez Guitars and EMG Pickups. He played music all throughout his younger years including marching band and jazz band at Homewood High School. He played in various projects growing up such as Romagna and Alserene. Price joined ERRA in 2013 and has since been touring full time across the US\, Canada and Japan. \nAaron Greene\, Sound Engineer at Workplay and Owner of The Syndicate Lounge \nHailing from Anniston\, AL\, Aaron Greene began his music career as the manager of the historical 1213 Club where he produced and performed. His career as a producer officially kicked off while working for his college radio station 92J at Jacksonville State University. After graduating\, Aaron spent the majority of his time working as a freelance engineer recording major concerts and festivals all over the country. Missing home\, Aaron sought out the best venue in the Southeast (WorkPlay.) Interested in the theatre\, the only soundstage in AL\, and the recording studios\, Aaron had found his niche. The past few years he has completely redesigned the WorkPlay Studios into two state-of-the-art control rooms and has restructured the engineer department at the venue. Consistent time in the studio has led Aaron to recording nationally touring artists: Sam Bush\, Matusyahu\, Son Volt\, Manchester Orchestra\, Conspirator\, The Devil Makes Three\, Willie Sugarcapps\, Filligar\, Freelance Wells\, Jimbo Mathus\, Shooter Jennings\, Sturgill Simpson Wet Willie\, RED\, Pop Evil and locals Jason Isbell and the 400 Unit\, St. Paul & The Broken Bones\, The Clear\, The Ramblers\, Chevy 6\, Black Montana\, Gucci Mane\, Rich Boy\, Of Empires\, Matt Smith\, Kill Baby Kill\, and The Banditos; this list is only ½ of the artists Aaron has had the honor to work with. “Music is the science of my life” says Aaron “lets make music together.” Aaron is also the owner of The Syndicate Lounge\, a Birmingham bar and performance venue. \n______ \n$15\, lunch included \nRSVP to kathryn@aiabham.org by Jan. 15. \nCancellation policy: Must give 24 hours’ notice of cancellation. If you cancel less than 24 hours before or do not show up to the meeting without notice\, you will be billed the cost of the meeting. 
URL:https://aiabham.org/event/music-architecture-january-chapter-meeting-1-hsw/
LOCATION:Saturn\, 200 41st St S\, Birmingham\, AL\, 35222\, United States
ATTACH;FMTTYPE=image/jpeg:https://aiabham.org/wp-content/uploads/2016/01/Music-and-Architecture-Poster_HORIZONTAL-scaled.jpg
ORGANIZER;CN="Kathryn":MAILTO:kathryn@aiabham.org
GEO:33.5242749;-86.7746153
X-APPLE-STRUCTURED-LOCATION;VALUE=URI;X-ADDRESS=Saturn 200 41st St S Birmingham AL 35222 United States;X-APPLE-RADIUS=500;X-TITLE=200 41st St S:geo:-86.7746153,33.5242749
END:VEVENT
BEGIN:VEVENT
DTSTART;TZID=America/Chicago:20151022T073000
DTEND;TZID=America/Chicago:20151022T083000
DTSTAMP:20260421T083933
CREATED:20150930T185609Z
LAST-MODIFIED:20150930T185609Z
UID:10000144-1445499000-1445502600@aiabham.org
SUMMARY:The Design of an Album
DESCRIPTION:Host / Birmingham Creative Roundtable \nVenue / Saturn – Directions \nIn this special Birmingham Creative Roundtable as part of Design Week\, we will take a close look at the design of an album from start to finish.  We will hear from an amazing panel including Jeffrey Cain of Communicating Vessels\, Brian Teasley\, of Saturn and Rebekah Fox\, also with Communicating Vessels.  Our panelists will speak on the creative process they follow and speak to questions such as: Where does inspiration come from? What role do the musicians play?  How does the team work together for the final product? How is the design for vinyl\, cd\, etc. formats differ from each other and work together? We will also be looking at examples of the finished artwork of several projects. \nBirmingham Creative Roundtable is open to everyone. We are a community of creative professionals and entrepreneurs. This is a place for you to learn from others\, network\, and recharge your creative batteries. Saturn will be hosting us and providing our coffee. The event is free\, please RSVP on our facebook event page.
URL:https://aiabham.org/event/the-design-of-an-album/
LOCATION:Saturn\, 200 41st St S\, Birmingham\, AL\, 35222\, United States
CATEGORIES:Alabama Center for Architecture,Design Week Birmingham
ATTACH;FMTTYPE=image/png:https://aiabham.org/wp-content/uploads/2015/01/11919540_655482194587067_6504109828639183886_n.png
GEO:33.5242749;-86.7746153
X-APPLE-STRUCTURED-LOCATION;VALUE=URI;X-ADDRESS=Saturn 200 41st St S Birmingham AL 35222 United States;X-APPLE-RADIUS=500;X-TITLE=200 41st St S:geo:-86.7746153,33.5242749
END:VEVENT
END:VCALENDAR