BEGIN:VCALENDAR
VERSION:2.0
PRODID:-//AIA Birmingham - ECPv6.15.20//NONSGML v1.0//EN
CALSCALE:GREGORIAN
METHOD:PUBLISH
X-ORIGINAL-URL:https://aiabham.org
X-WR-CALDESC:Events for AIA Birmingham
REFRESH-INTERVAL;VALUE=DURATION:PT1H
X-Robots-Tag:noindex
X-PUBLISHED-TTL:PT1H
BEGIN:VTIMEZONE
TZID:America/Chicago
BEGIN:DAYLIGHT
TZOFFSETFROM:-0600
TZOFFSETTO:-0500
TZNAME:CDT
DTSTART:20160313T080000
END:DAYLIGHT
BEGIN:STANDARD
TZOFFSETFROM:-0500
TZOFFSETTO:-0600
TZNAME:CST
DTSTART:20161106T070000
END:STANDARD
BEGIN:DAYLIGHT
TZOFFSETFROM:-0600
TZOFFSETTO:-0500
TZNAME:CDT
DTSTART:20170312T080000
END:DAYLIGHT
BEGIN:STANDARD
TZOFFSETFROM:-0500
TZOFFSETTO:-0600
TZNAME:CST
DTSTART:20171105T070000
END:STANDARD
BEGIN:DAYLIGHT
TZOFFSETFROM:-0600
TZOFFSETTO:-0500
TZNAME:CDT
DTSTART:20180311T080000
END:DAYLIGHT
BEGIN:STANDARD
TZOFFSETFROM:-0500
TZOFFSETTO:-0600
TZNAME:CST
DTSTART:20181104T070000
END:STANDARD
END:VTIMEZONE
BEGIN:VEVENT
DTSTART;TZID=America/Chicago:20170510T173000
DTEND;TZID=America/Chicago:20170510T190000
DTSTAMP:20260422T192257
CREATED:20170315T161240Z
LAST-MODIFIED:20170315T161240Z
UID:10000197-1494437400-1494442800@aiabham.org
SUMMARY:Huntsville dreamArchitecture Ceremony
DESCRIPTION:What: dreamArchitecture Awards Ceremony \nWhen: May 10\, 2017\, 5:30 – 7:00 pm \nWhere: Saturn V Hall at the U.S. Space & Rocket Center\n1 Tranquility Base\, Huntsville\, AL 35805 \n  \nRSVP to the Alabama Center for Architecture by May 1st \ne-mail: kathryn@karmamanagementinc.com \nphone: 205.322.4386 \nwww.alcfa.org/hsv-dreamarchitecture
URL:https://aiabham.org/event/huntsville-dreamarchitecture-ceremony/
LOCATION:Saturn V Hall at US Space and Rocket Center\, 1 Tranquility Base\, Huntsville\, AL\, 35805\, United States
CATEGORIES:Alabama Center for Architecture
ATTACH;FMTTYPE=image/jpeg:https://aiabham.org/wp-content/uploads/2016/12/ACFA-logo-square.jpg
GEO:34.7121569;-86.6503477
X-APPLE-STRUCTURED-LOCATION;VALUE=URI;X-ADDRESS=Saturn V Hall at US Space and Rocket Center 1 Tranquility Base Huntsville AL 35805 United States;X-APPLE-RADIUS=500;X-TITLE=1 Tranquility Base:geo:-86.6503477,34.7121569
END:VEVENT
END:VCALENDAR