BEGIN:VCALENDAR
VERSION:2.0
PRODID:-//AIA Birmingham - ECPv6.15.20//NONSGML v1.0//EN
CALSCALE:GREGORIAN
METHOD:PUBLISH
X-WR-CALNAME:AIA Birmingham
X-ORIGINAL-URL:https://aiabham.org
X-WR-CALDESC:Events for AIA Birmingham
REFRESH-INTERVAL;VALUE=DURATION:PT1H
X-Robots-Tag:noindex
X-PUBLISHED-TTL:PT1H
BEGIN:VTIMEZONE
TZID:America/Chicago
BEGIN:DAYLIGHT
TZOFFSETFROM:-0600
TZOFFSETTO:-0500
TZNAME:CDT
DTSTART:20110313T080000
END:DAYLIGHT
BEGIN:STANDARD
TZOFFSETFROM:-0500
TZOFFSETTO:-0600
TZNAME:CST
DTSTART:20111106T070000
END:STANDARD
BEGIN:DAYLIGHT
TZOFFSETFROM:-0600
TZOFFSETTO:-0500
TZNAME:CDT
DTSTART:20120311T080000
END:DAYLIGHT
BEGIN:STANDARD
TZOFFSETFROM:-0500
TZOFFSETTO:-0600
TZNAME:CST
DTSTART:20121104T070000
END:STANDARD
BEGIN:DAYLIGHT
TZOFFSETFROM:-0600
TZOFFSETTO:-0500
TZNAME:CDT
DTSTART:20130310T080000
END:DAYLIGHT
BEGIN:STANDARD
TZOFFSETFROM:-0500
TZOFFSETTO:-0600
TZNAME:CST
DTSTART:20131103T070000
END:STANDARD
END:VTIMEZONE
BEGIN:VEVENT
DTSTART;TZID=America/Chicago:20120925T170000
DTEND;TZID=America/Chicago:20120925T180000
DTSTAMP:20260420T091836
CREATED:20120924T165257Z
LAST-MODIFIED:20120924T165257Z
UID:10000066-1348592400-1348596000@aiabham.org
SUMMARY:Cirque Aerial Music Lecture & Performance- 1 LU
DESCRIPTION:Join us Tuesday evening for a FREE lecture and performance.  Lecture begins at 5:00\, followed by a happy hour and 20 minute performance.  Attendees receive 1 LU. Lecture topics include: \n• The Earth Harp – Turning the earth into an instrument\, past\, present and future. \n• Innovation – Original\, invented instruments inspired by nature’s designs & continually evolving shows inspired by human creative advancement  \n• Site Specific Installations – Utilizing the unique aspect of locations as the muse for show development
URL:https://aiabham.org/event/cirque-aerial-music-lecture-performance-1-lu/
LOCATION:Engel Plaza\, 1200 10th Ave S\, Birmingham\, AL\, 35294\, Select a Country:
GEO:33.49677;-86.807785
X-APPLE-STRUCTURED-LOCATION;VALUE=URI;X-ADDRESS=Engel Plaza 1200 10th Ave S Birmingham AL 35294 Select a Country:;X-APPLE-RADIUS=500;X-TITLE=1200 10th Ave S:geo:-86.807785,33.49677
END:VEVENT
BEGIN:VEVENT
DTSTART;TZID=America/Chicago:20120925T120000
DTEND;TZID=America/Chicago:20120925T130000
DTSTAMP:20260420T091836
CREATED:20120924T164959Z
LAST-MODIFIED:20120924T164959Z
UID:10000065-1348574400-1348578000@aiabham.org
SUMMARY:Cirque Alys Aerial Music- lunch time performance- 1 LU
DESCRIPTION:Watch cool aerial music performace performed by MASS (Music\, Architecture\, Sonic Sculpture) artists! Free event\, bring cash for food trucks on site!
URL:https://aiabham.org/event/cirque-alys-aerial-music-lunch-time-performance-1-lu/
LOCATION:Engel Plaza\, 1200 10th Ave S\, Birmingham\, AL\, 35294\, Select a Country:
GEO:33.49677;-86.807785
X-APPLE-STRUCTURED-LOCATION;VALUE=URI;X-ADDRESS=Engel Plaza 1200 10th Ave S Birmingham AL 35294 Select a Country:;X-APPLE-RADIUS=500;X-TITLE=1200 10th Ave S:geo:-86.807785,33.49677
END:VEVENT
END:VCALENDAR