BEGIN:VCALENDAR
VERSION:2.0
PRODID:-//AIA Birmingham - ECPv6.15.20//NONSGML v1.0//EN
CALSCALE:GREGORIAN
METHOD:PUBLISH
X-ORIGINAL-URL:https://aiabham.org
X-WR-CALDESC:Events for AIA Birmingham
REFRESH-INTERVAL;VALUE=DURATION:PT1H
X-Robots-Tag:noindex
X-PUBLISHED-TTL:PT1H
BEGIN:VTIMEZONE
TZID:America/Chicago
BEGIN:DAYLIGHT
TZOFFSETFROM:-0600
TZOFFSETTO:-0500
TZNAME:CDT
DTSTART:20140309T080000
END:DAYLIGHT
BEGIN:STANDARD
TZOFFSETFROM:-0500
TZOFFSETTO:-0600
TZNAME:CST
DTSTART:20141102T070000
END:STANDARD
BEGIN:DAYLIGHT
TZOFFSETFROM:-0600
TZOFFSETTO:-0500
TZNAME:CDT
DTSTART:20150308T080000
END:DAYLIGHT
BEGIN:STANDARD
TZOFFSETFROM:-0500
TZOFFSETTO:-0600
TZNAME:CST
DTSTART:20151101T070000
END:STANDARD
BEGIN:DAYLIGHT
TZOFFSETFROM:-0600
TZOFFSETTO:-0500
TZNAME:CDT
DTSTART:20160313T080000
END:DAYLIGHT
BEGIN:STANDARD
TZOFFSETFROM:-0500
TZOFFSETTO:-0600
TZNAME:CST
DTSTART:20161106T070000
END:STANDARD
BEGIN:DAYLIGHT
TZOFFSETFROM:-0600
TZOFFSETTO:-0500
TZNAME:CDT
DTSTART:20170312T080000
END:DAYLIGHT
BEGIN:STANDARD
TZOFFSETFROM:-0500
TZOFFSETTO:-0600
TZNAME:CST
DTSTART:20171105T070000
END:STANDARD
END:VTIMEZONE
BEGIN:VEVENT
DTSTART;TZID=America/Chicago:20160503T160000
DTEND;TZID=America/Chicago:20160503T190000
DTSTAMP:20260424T072401
CREATED:20160412T201253Z
LAST-MODIFIED:20160414T155508Z
UID:10000430-1462291200-1462302000@aiabham.org
SUMMARY:Auburn Urban Studio Open House
DESCRIPTION:Come see the students’ work! \nTuesday\, May 3rd\n4:00-7:00 p.m. \nAuburn University Urban Studio\n221 20th St. North\nBirmingham\, AL 35203 \nRSVP to Jennifer.cloe@auburn.edu.
URL:https://aiabham.org/event/auburn-urban-studio-open-house-2/
LOCATION:Auburn University Urban Studio\, 221 20th St. N\, Birmingham\, AL\, 35203\, United States
CATEGORIES:Partner Events
ATTACH;FMTTYPE=image/jpeg:https://aiabham.org/wp-content/uploads/2016/04/F01_Urban-Studios-New-Home_r_0.jpg
ORGANIZER;CN="Jennifer Cloe":MAILTO:jcc0078@auburn.edu
GEO:33.5156054;-86.8063684
X-APPLE-STRUCTURED-LOCATION;VALUE=URI;X-ADDRESS=Auburn University Urban Studio 221 20th St. N Birmingham AL 35203 United States;X-APPLE-RADIUS=500;X-TITLE=221 20th St. N:geo:-86.8063684,33.5156054
END:VEVENT
BEGIN:VEVENT
DTSTART;TZID=America/Chicago:20151023T140000
DTEND;TZID=America/Chicago:20151023T160000
DTSTAMP:20260424T072401
CREATED:20150929T160325Z
LAST-MODIFIED:20150929T160325Z
UID:10000136-1445608800-1445616000@aiabham.org
SUMMARY:Design & Dignity – Community Conversations with the Urban Studio
DESCRIPTION:Host / Auburn University Urban Studio \nVenue / Auburn University Urban Studio – Directions \nThe Auburn University Urban Studio is a one year program for Fifth year architecture students allowing them to: be embedded in the Birmingham community\, study planning in a rich urban laboratory\, and building design in an Urban context. During the Fall semester\, the Students from the Urban Studio have been exploring the opportunities for new Urban housing models for Habitat. Looking at the site of Cascade Plunge\, a historic venue in the Eastlake community\, the students were challenged to take the 17 acre site and create a new master plan and then explore a new Urban housing model\, using the Habitat’s Mission statement and goals. Exploring the sense of ownership\, pride\, and empowerment\, the students have tackled the difficult task of …… Design and Dignity. Come hear their thoughts and findings.
URL:https://aiabham.org/event/design-dignity-community-conversations-with-the-urban-studio/
LOCATION:Auburn University Urban Studio\, 221 20th St. N\, Birmingham\, AL\, 35203\, United States
CATEGORIES:Alabama Center for Architecture,Design Week Birmingham
ATTACH;FMTTYPE=image/png:https://aiabham.org/wp-content/uploads/2015/01/11919540_655482194587067_6504109828639183886_n.png
GEO:33.5156054;-86.8063684
X-APPLE-STRUCTURED-LOCATION;VALUE=URI;X-ADDRESS=Auburn University Urban Studio 221 20th St. N Birmingham AL 35203 United States;X-APPLE-RADIUS=500;X-TITLE=221 20th St. N:geo:-86.8063684,33.5156054
END:VEVENT
END:VCALENDAR