BEGIN:VCALENDAR
VERSION:2.0
PRODID:-//AIA Birmingham - ECPv6.15.20//NONSGML v1.0//EN
CALSCALE:GREGORIAN
METHOD:PUBLISH
X-WR-CALNAME:AIA Birmingham
X-ORIGINAL-URL:https://aiabham.org
X-WR-CALDESC:Events for AIA Birmingham
REFRESH-INTERVAL;VALUE=DURATION:PT1H
X-Robots-Tag:noindex
X-PUBLISHED-TTL:PT1H
BEGIN:VTIMEZONE
TZID:America/Chicago
BEGIN:DAYLIGHT
TZOFFSETFROM:-0600
TZOFFSETTO:-0500
TZNAME:CDT
DTSTART:20190310T080000
END:DAYLIGHT
BEGIN:STANDARD
TZOFFSETFROM:-0500
TZOFFSETTO:-0600
TZNAME:CST
DTSTART:20191103T070000
END:STANDARD
BEGIN:DAYLIGHT
TZOFFSETFROM:-0600
TZOFFSETTO:-0500
TZNAME:CDT
DTSTART:20200308T080000
END:DAYLIGHT
BEGIN:STANDARD
TZOFFSETFROM:-0500
TZOFFSETTO:-0600
TZNAME:CST
DTSTART:20201101T070000
END:STANDARD
BEGIN:DAYLIGHT
TZOFFSETFROM:-0600
TZOFFSETTO:-0500
TZNAME:CDT
DTSTART:20210314T080000
END:DAYLIGHT
BEGIN:STANDARD
TZOFFSETFROM:-0500
TZOFFSETTO:-0600
TZNAME:CST
DTSTART:20211107T070000
END:STANDARD
END:VTIMEZONE
BEGIN:VEVENT
DTSTART;TZID=America/Chicago:20201001T120000
DTEND;TZID=America/Chicago:20201001T130000
DTSTAMP:20260422T104243
CREATED:20200924T215119Z
LAST-MODIFIED:20200924T215119Z
UID:10000587-1601553600-1601557200@aiabham.org
SUMMARY:HSW: Light and the Human Circadian Rhythm:  Response to the AMA (American Medical Association)
DESCRIPTION:October 1 // 12-1 PM // HSW\nClick here to register!  \nPresented by Lighting Solutions (Platinum Sponsor)
URL:https://aiabham.org/event/hsw-light-and-the-human-circadian-rhythm-response-to-the-ama-american-medical-association/
LOCATION:Birmingham\, AL\, United States
CATEGORIES:Sponsor Events
END:VEVENT
END:VCALENDAR