BEGIN:VCALENDAR
VERSION:2.0
PRODID:-//AIA Birmingham - ECPv6.15.20//NONSGML v1.0//EN
CALSCALE:GREGORIAN
METHOD:PUBLISH
X-WR-CALNAME:AIA Birmingham
X-ORIGINAL-URL:https://aiabham.org
X-WR-CALDESC:Events for AIA Birmingham
REFRESH-INTERVAL;VALUE=DURATION:PT1H
X-Robots-Tag:noindex
X-PUBLISHED-TTL:PT1H
BEGIN:VTIMEZONE
TZID:America/Chicago
BEGIN:DAYLIGHT
TZOFFSETFROM:-0600
TZOFFSETTO:-0500
TZNAME:CDT
DTSTART:20190310T080000
END:DAYLIGHT
BEGIN:STANDARD
TZOFFSETFROM:-0500
TZOFFSETTO:-0600
TZNAME:CST
DTSTART:20191103T070000
END:STANDARD
BEGIN:DAYLIGHT
TZOFFSETFROM:-0600
TZOFFSETTO:-0500
TZNAME:CDT
DTSTART:20200308T080000
END:DAYLIGHT
BEGIN:STANDARD
TZOFFSETFROM:-0500
TZOFFSETTO:-0600
TZNAME:CST
DTSTART:20201101T070000
END:STANDARD
BEGIN:DAYLIGHT
TZOFFSETFROM:-0600
TZOFFSETTO:-0500
TZNAME:CDT
DTSTART:20210314T080000
END:DAYLIGHT
BEGIN:STANDARD
TZOFFSETFROM:-0500
TZOFFSETTO:-0600
TZNAME:CST
DTSTART:20211107T070000
END:STANDARD
END:VTIMEZONE
BEGIN:VEVENT
DTSTART;TZID=America/Chicago:20200625T130000
DTEND;TZID=America/Chicago:20200625T140000
DTSTAMP:20260422T115751
CREATED:20200623T151827Z
LAST-MODIFIED:20200623T151852Z
UID:10000283-1593090000-1593093600@aiabham.org
SUMMARY:Light and Health: A Different Perspective by Lighting Solutions (Platinum Sponsor) (HSW)
DESCRIPTION:Click here to register online!\n6/25 // 1-2 PM CT // FREE\nThis course attempts to put in perspective how little time humans and other life forms have been exposed to any other light source other than daylight\, and the tremendous knowledge that is being gathered daily on how electricity can not only affect our visual system and our perception of the built environment\, but may also affect many other human systems. \nPresented by Lighting Solutions (Platinum Sponsor)
URL:https://aiabham.org/event/light-and-health-a-different-perspective-by-lighting-solutions-platinum-sponsor-hsw/
LOCATION:Birmingham\, AL\, United States
END:VEVENT
END:VCALENDAR