BEGIN:VCALENDAR
VERSION:2.0
PRODID:-//AIA Birmingham - ECPv6.15.20//NONSGML v1.0//EN
CALSCALE:GREGORIAN
METHOD:PUBLISH
X-WR-CALNAME:AIA Birmingham
X-ORIGINAL-URL:https://aiabham.org
X-WR-CALDESC:Events for AIA Birmingham
REFRESH-INTERVAL;VALUE=DURATION:PT1H
X-Robots-Tag:noindex
X-PUBLISHED-TTL:PT1H
BEGIN:VTIMEZONE
TZID:America/Chicago
BEGIN:DAYLIGHT
TZOFFSETFROM:-0600
TZOFFSETTO:-0500
TZNAME:CDT
DTSTART:20130310T080000
END:DAYLIGHT
BEGIN:STANDARD
TZOFFSETFROM:-0500
TZOFFSETTO:-0600
TZNAME:CST
DTSTART:20131103T070000
END:STANDARD
BEGIN:DAYLIGHT
TZOFFSETFROM:-0600
TZOFFSETTO:-0500
TZNAME:CDT
DTSTART:20140309T080000
END:DAYLIGHT
BEGIN:STANDARD
TZOFFSETFROM:-0500
TZOFFSETTO:-0600
TZNAME:CST
DTSTART:20141102T070000
END:STANDARD
BEGIN:DAYLIGHT
TZOFFSETFROM:-0600
TZOFFSETTO:-0500
TZNAME:CDT
DTSTART:20150308T080000
END:DAYLIGHT
BEGIN:STANDARD
TZOFFSETFROM:-0500
TZOFFSETTO:-0600
TZNAME:CST
DTSTART:20151101T070000
END:STANDARD
BEGIN:DAYLIGHT
TZOFFSETFROM:-0600
TZOFFSETTO:-0500
TZNAME:CDT
DTSTART:20160313T080000
END:DAYLIGHT
BEGIN:STANDARD
TZOFFSETFROM:-0500
TZOFFSETTO:-0600
TZNAME:CST
DTSTART:20161106T070000
END:STANDARD
END:VTIMEZONE
BEGIN:VEVENT
DTSTART;TZID=America/Chicago:20151028T140000
DTEND;TZID=America/Chicago:20151028T170000
DTSTAMP:20260422T074845
CREATED:20151008T202925Z
LAST-MODIFIED:20151008T203119Z
UID:10000146-1446040800-1446051600@aiabham.org
SUMMARY:20% of the Fee and 80% of the Liability: Navigating the Minefield of Construction Contract Administration
DESCRIPTION:20% of the Fee and 80% of the Liability: Navigating the Minefield of Construction Contract Administration\nand\nEvaluating Professional Ethics & Conduct Through Case Studies\nSpeaker — Barbara Sable\, RLI Insurance Company\nWednesday\, October 28\n2-5 pm\, registration at 1:30 pm\nVestavia Country Club\nFREE\nSnacks will be available.\nRSVP to Cassie Hall\, 205-397-5133 or chall@jrprewitt.com\n  \nParticipants in this seminar will learn or better understand: \nThe typical design professional fee is split 80% for the design and construction document creation and 20% for construction contract administration services. While construction contract administration is an essential service offered by design professionals\, most claims against design professionals now include an allegation relating to negligence in the construction contract administration services. Owners increasingly expect design professionals to protect them from improper performance of the contractor\, or to take risks related to design changes and substitutions intended to modify project cost. This course will explore the risks that design professionals face when providing construction contract administration services. We will identify the sources of these risks and learn how design professionals can mitigate them without compromising public health\, safety and welfare. \n 
URL:https://aiabham.org/event/20-of-the-fee-and-80-of-the-liability-navigating-the-minefield-of-construction-contract-administration/
LOCATION:Vestavia Hills Country Club\, Birmingham
CATEGORIES:Sponsor Events
ATTACH;FMTTYPE=image/jpeg:https://aiabham.org/wp-content/uploads/2015/10/JR-Prewitt.jpg
ORGANIZER;CN="Cassie Hall":MAILTO:chall@jrprewitt.com
GEO:33.5206608;-86.80249
END:VEVENT
BEGIN:VEVENT
DTSTART;TZID=America/Chicago:20141104T140000
DTEND;TZID=America/Chicago:20141104T180000
DTSTAMP:20260422T074845
CREATED:20141029T172011Z
LAST-MODIFIED:20141029T172054Z
UID:10000067-1415109600-1415124000@aiabham.org
SUMMARY:4 HSW - Annual Risk Management Seminar -- Presented by JR Prewitt & Associates
DESCRIPTION:JR Prewitt & Associates presents\nANNUAL RISK MANAGEMENT SEMINAR\nBarbara Sable of RLI Insurance Company\n“Managing Client Expectations and Maintaining Professional Ethics”\nParticipants in this seminar will learn or better understand: \n\nHow to identify clients who don’t acknowledge the differences between “negligence” and “errors and omissions.”\nHow and why public client expectations may differ from private client expectations.\nSome of the drivers that promote expectations of perfections.\nWhat design professionals can do to better manage client expectations\nRegulations that guide ethics\nEthical requirements of professional societies\nWhere ethics fit into your duties to clients.\nThe ramifications of not following applicable codes of ethics.\n\nTuesday\, November 4\, 2014 \n2:00 – 6:00 p.m. \nVestavia Country Club \nRegistration begins at 1:30 p.m. \nSnacks will be available during the seminar. \nCost: FREE! \nRSVP to Cassie Hall at 205-397-5133 or chall@jrprewitt.com.
URL:https://aiabham.org/event/4-hsw-annual-risk-management-seminar-presented-by-jr-prewitt-associates/
LOCATION:Vestavia Hills Country Club\, Birmingham
ATTACH;FMTTYPE=image/jpeg:https://aiabham.org/wp-content/uploads/2014/10/1cd929cfc49107a95d57caa12cab04d6.jpg
ORGANIZER;CN="Cassie Hall":MAILTO:chall@jrprewitt.com
GEO:33.5206608;-86.80249
END:VEVENT
END:VCALENDAR